BEGIN:VCALENDAR
VERSION:2.0
PRODID:-//Plone.org//NONSGML plone.app.event//EN
X-WR-TIMEZONE:Europe/Berlin
BEGIN:VEVENT
SUMMARY:Die Frage ist: Was ist die Frage? Vom Thema zur wissenschaftlichen
  Problemstellung
DTSTART;TZID=Europe/Berlin:20260622T141500
DTEND;TZID=Europe/Berlin:20260622T164500
DTSTAMP:20260420T162244Z
UID:53e5c1c584c94064b4d6e48b4d91b8b5@www.uni-marburg.de
ATTENDEE;CN="Felix Uhl, Sozial- und Kulturanthropologe, Schreibdidaktiker"
 ;ROLE=REQ-PARTICIPANT:Felix Uhl, Sozial- und Kulturanthropologe, Schreibdi
 daktiker
CATEGORIES:Workshop
CREATED:20201016T122025Z
DESCRIPTION:https://www.uni-marburg.de/de/ub/aktuelles/termine/kursprogram
 m-ub-sose-2026/frage-22-06-2026\nWorkshop für Studierende
LAST-MODIFIED:20260323T093541Z
LOCATION:Online-Veranstaltung über BigBlueButton
URL:https://www.uni-marburg.de/de/ub/aktuelles/termine/kursprogramm-ub-sos
 e-2026/frage-22-06-2026
END:VEVENT
BEGIN:VTIMEZONE
TZID:Europe/Berlin
X-LIC-LOCATION:Europe/Berlin
BEGIN:DAYLIGHT
DTSTART:20260329T030000
TZNAME:CEST
TZOFFSETFROM:+0100
TZOFFSETTO:+0200
END:DAYLIGHT
END:VTIMEZONE
END:VCALENDAR
