BEGIN:VCALENDAR
VERSION:2.0
PRODID:-//Plone.org//NONSGML plone.app.event//EN
X-WR-TIMEZONE:Europe/Berlin
BEGIN:VEVENT
SUMMARY:Game Dev Playground
DTSTART;TZID=Europe/Berlin:20260414T100000
DTEND;TZID=Europe/Berlin:20260414T120000
DTSTAMP:20260423T015310Z
UID:7d59df1620174a2b8bc102cd36af9144@www.uni-marburg.de
ATTENDEE;CN="Aaron Beller, Medientechniker Medienzentrum";ROLE=REQ-PARTICI
 PANT:Aaron Beller, Medientechniker Medienzentrum
CATEGORIES:()
CREATED:20201016T122025Z
DESCRIPTION:https://www.uni-marburg.de/de/ub/aktuelles/termine/kursprogram
 m-ub-sose-2026/game-dev-playground-14-04-2026\nOpen Lab Format\, für alle
  Interessierte
LAST-MODIFIED:20260302T104345Z
LOCATION:XSpaces Game Lab (Gruppenraum 50)\, ZUB
URL:https://www.uni-marburg.de/de/ub/aktuelles/termine/kursprogramm-ub-sos
 e-2026/game-dev-playground-14-04-2026
END:VEVENT
BEGIN:VTIMEZONE
TZID:Europe/Berlin
X-LIC-LOCATION:Europe/Berlin
BEGIN:DAYLIGHT
DTSTART:20260329T030000
TZNAME:CEST
TZOFFSETFROM:+0100
TZOFFSETTO:+0200
END:DAYLIGHT
END:VTIMEZONE
END:VCALENDAR
