BEGIN:VCALENDAR
VERSION:2.0
PRODID:-//Plone.org//NONSGML plone.app.event//EN
X-WR-TIMEZONE:Europe/Berlin
BEGIN:VEVENT
SUMMARY:Erste Schritte bei der Literaturrecherche
DTSTART;TZID=Europe/Berlin:20260519T141500
DTEND;TZID=Europe/Berlin:20260519T164500
DTSTAMP:20260422T025742Z
UID:35d148e8abc04f158c565f2bedecd4a7@www.uni-marburg.de
ATTENDEE;CN="Franziska Schlegel, Diplom-Bibliothekarin";ROLE=REQ-PARTICIPA
 NT:Franziska Schlegel, Diplom-Bibliothekarin
ATTENDEE;CN="Lisanne Kersten, Bibliothekarin (B.A.)";ROLE=REQ-PARTICIPANT:
 Lisanne Kersten, Bibliothekarin (B.A.)
CATEGORIES:Schulung
CREATED:20201016T122025Z
DESCRIPTION:https://www.uni-marburg.de/de/ub/aktuelles/termine/kursprogram
 m-ub-sose-2026/literaturrecherche-19-05-2026-1\nWorkshop für Studierende
LAST-MODIFIED:20260323T135840Z
LOCATION:Schulungsraum der ZUB\, Ebene 0
URL:https://www.uni-marburg.de/de/ub/aktuelles/termine/kursprogramm-ub-sos
 e-2026/literaturrecherche-19-05-2026-1
END:VEVENT
BEGIN:VTIMEZONE
TZID:Europe/Berlin
X-LIC-LOCATION:Europe/Berlin
BEGIN:DAYLIGHT
DTSTART:20260329T030000
TZNAME:CEST
TZOFFSETFROM:+0100
TZOFFSETTO:+0200
END:DAYLIGHT
END:VTIMEZONE
END:VCALENDAR
