BEGIN:VCALENDAR
VERSION:2.0
PRODID:-//Plone.org//NONSGML plone.app.event//EN
X-WR-TIMEZONE:Europe/Berlin
BEGIN:VEVENT
SUMMARY:Die Masterarbeit meistern: Gemeinsam Schreib-Power entwickeln
DTSTART;TZID=Europe/Berlin:20260713T151500
DTEND;TZID=Europe/Berlin:20260713T164500
DTSTAMP:20260420T165010Z
UID:2daf4e52fefa41639e219bde2dd3df82@www.uni-marburg.de
ATTENDEE;CN="Dr. Andrea Beutlhauser, Lektorin, Schreibcoach und Lehrbeauft
 ragte";ROLE=REQ-PARTICIPANT:Dr. Andrea Beutlhauser, Lektorin, Schreibcoach
  und Lehrbeauftragte
CATEGORIES:Workshop
CREATED:20201016T122025Z
DESCRIPTION:https://www.uni-marburg.de/de/ub/aktuelles/termine/kursprogram
 m-ub-sose-2026/masterarbeit-13-07-2026\nWorkshop für Studierende
LAST-MODIFIED:20260323T124541Z
LOCATION:Gruppenraum 37\, ZUB\, Ebene 1
URL:https://www.uni-marburg.de/de/ub/aktuelles/termine/kursprogramm-ub-sos
 e-2026/masterarbeit-13-07-2026
END:VEVENT
BEGIN:VTIMEZONE
TZID:Europe/Berlin
X-LIC-LOCATION:Europe/Berlin
BEGIN:DAYLIGHT
DTSTART:20260329T030000
TZNAME:CEST
TZOFFSETFROM:+0100
TZOFFSETTO:+0200
END:DAYLIGHT
END:VTIMEZONE
END:VCALENDAR
