BEGIN:VCALENDAR
VERSION:2.0
PRODID:-//Plone.org//NONSGML plone.app.event//EN
X-WR-TIMEZONE:Europe/Berlin
BEGIN:VEVENT
SUMMARY:Die Masterarbeit meistern: Gemeinsam Schreib-Power entwickeln
DTSTART;TZID=Europe/Berlin:20260629T151500
DTEND;TZID=Europe/Berlin:20260629T164500
DTSTAMP:20260421T143441Z
UID:01337a8775d745b9ae9c0d677fc5d02b@www.uni-marburg.de
ATTENDEE;CN="Dr. Andrea Beutlhauser, Lektorin, Schreibcoach und Lehrbeauft
 ragte";ROLE=REQ-PARTICIPANT:Dr. Andrea Beutlhauser, Lektorin, Schreibcoach
  und Lehrbeauftragte
CATEGORIES:Workshop
CREATED:20201016T122025Z
DESCRIPTION:https://www.uni-marburg.de/de/ub/aktuelles/termine/kursprogram
 m-ub-sose-2026/masterarbeit-29-06-2026\nWorkshop für Studierende
LAST-MODIFIED:20260323T124149Z
LOCATION:Gruppenraum 37\, ZUB\, Ebene 1
URL:https://www.uni-marburg.de/de/ub/aktuelles/termine/kursprogramm-ub-sos
 e-2026/masterarbeit-29-06-2026
END:VEVENT
BEGIN:VTIMEZONE
TZID:Europe/Berlin
X-LIC-LOCATION:Europe/Berlin
BEGIN:DAYLIGHT
DTSTART:20260329T030000
TZNAME:CEST
TZOFFSETFROM:+0100
TZOFFSETTO:+0200
END:DAYLIGHT
END:VTIMEZONE
END:VCALENDAR
