BEGIN:VCALENDAR
VERSION:2.0
PRODID:-//Plone.org//NONSGML plone.app.event//EN
X-WR-TIMEZONE:Europe/Berlin
BEGIN:VEVENT
SUMMARY:3D-Modellierung mit Blender
DTSTART;TZID=Europe/Berlin:20260429T090000
DTEND;TZID=Europe/Berlin:20260429T130000
DTSTAMP:20260422T220645Z
UID:55035d8e2bdb490aa819f3a35dfacbd0@www.uni-marburg.de
ATTENDEE;CN="Aaron Beller, Medienzentrum UB";ROLE=REQ-PARTICIPANT:Aaron Be
 ller, Medienzentrum UB
CATEGORIES:Workshop
CREATED:20201016T122025Z
DESCRIPTION:https://www.uni-marburg.de/de/ub/aktuelles/termine/kursprogram
 m-ub-sose-2026/modellierung-blender-29-04-2026\nWorkshop für alle Interes
 sierten
LAST-MODIFIED:20260323T151607Z
LOCATION:Schulungsraum im Medienzentrum\, ZUB
URL:https://www.uni-marburg.de/de/ub/aktuelles/termine/kursprogramm-ub-sos
 e-2026/modellierung-blender-29-04-2026
END:VEVENT
BEGIN:VTIMEZONE
TZID:Europe/Berlin
X-LIC-LOCATION:Europe/Berlin
BEGIN:DAYLIGHT
DTSTART:20260329T030000
TZNAME:CEST
TZOFFSETFROM:+0100
TZOFFSETTO:+0200
END:DAYLIGHT
END:VTIMEZONE
END:VCALENDAR
