BEGIN:VCALENDAR
VERSION:2.0
PRODID:-//Plone.org//NONSGML plone.app.event//EN
X-WR-TIMEZONE:Europe/Berlin
BEGIN:VEVENT
SUMMARY:Lesen\, Schreiben\, Überarbeiten – den Schreibprozess systemati
 sch gestalten
DTSTART;TZID=Europe/Berlin:20260706T141500
DTEND;TZID=Europe/Berlin:20260706T174500
DTSTAMP:20260421T020325Z
UID:32624a2b7edf423fab02941ea254881f@www.uni-marburg.de
ATTENDEE;CN="Helena Grünebaum, M.A., Linguistin, Schreibberaterin";ROLE=R
 EQ-PARTICIPANT:Helena Grünebaum, M.A., Linguistin, Schreibberaterin
CATEGORIES:Workshop
CREATED:20201016T122025Z
DESCRIPTION:https://www.uni-marburg.de/de/ub/aktuelles/termine/kursprogram
 m-ub-sose-2026/schreibprozess-06-07-2026\nWorkshop für Studierende
LAST-MODIFIED:20260323T100136Z
LOCATION:Schulungsraum der ZUB\, Ebene 0
URL:https://www.uni-marburg.de/de/ub/aktuelles/termine/kursprogramm-ub-sos
 e-2026/schreibprozess-06-07-2026
END:VEVENT
BEGIN:VTIMEZONE
TZID:Europe/Berlin
X-LIC-LOCATION:Europe/Berlin
BEGIN:DAYLIGHT
DTSTART:20260329T030000
TZNAME:CEST
TZOFFSETFROM:+0100
TZOFFSETTO:+0200
END:DAYLIGHT
END:VTIMEZONE
END:VCALENDAR
