BEGIN:VCALENDAR
VERSION:2.0
PRODID:-//Plone.org//NONSGML plone.app.event//EN
X-WR-TIMEZONE:Europe/Berlin
BEGIN:VEVENT
SUMMARY:Tipps & Tricks zum Strukturieren und Gliedern
DTSTART;TZID=Europe/Berlin:20260623T151500
DTEND;TZID=Europe/Berlin:20260623T164500
DTSTAMP:20260420T190047Z
UID:df308241383142b28334a84589a9dcde@www.uni-marburg.de
ATTENDEE;CN="Leonie Häger, M.A., Kulturwissenschaftlerin, Bibliotheksrefe
 rendarin";ROLE=REQ-PARTICIPANT:Leonie Häger, M.A., Kulturwissenschaftleri
 n, Bibliotheksreferendarin
CATEGORIES:Workshop
CREATED:20201016T122025Z
DESCRIPTION:https://www.uni-marburg.de/de/ub/aktuelles/termine/kursprogram
 m-ub-sose-2026/strukturieren-23-06-2026\nWorkshop für Studierende
LAST-MODIFIED:20260323T120529Z
LOCATION:Online-Veranstaltung über BigBlueButton
URL:https://www.uni-marburg.de/de/ub/aktuelles/termine/kursprogramm-ub-sos
 e-2026/strukturieren-23-06-2026
END:VEVENT
BEGIN:VTIMEZONE
TZID:Europe/Berlin
X-LIC-LOCATION:Europe/Berlin
BEGIN:DAYLIGHT
DTSTART:20260329T030000
TZNAME:CEST
TZOFFSETFROM:+0100
TZOFFSETTO:+0200
END:DAYLIGHT
END:VTIMEZONE
END:VCALENDAR
