BEGIN:VCALENDAR
VERSION:2.0
PRODID:-//Plone.org//NONSGML plone.app.event//EN
X-WR-TIMEZONE:Europe/Berlin
BEGIN:VEVENT
SUMMARY:Systematisch Texte lesen im Studium
DTSTART;TZID=Europe/Berlin:20260526T101500
DTEND;TZID=Europe/Berlin:20260526T114500
DTSTAMP:20260421T024652Z
UID:3ea1e1a3fd8c4badab9953bc00d5226b@www.uni-marburg.de
ATTENDEE;CN="Florian Hantschel, M.A., Musikwissenschaftler und Referent im
  Lernzentrum der UB";ROLE=REQ-PARTICIPANT:Florian Hantschel, M.A., Musikwi
 ssenschaftler und Referent im Lernzentrum der UB
CATEGORIES:Workshop
CREATED:20201016T122025Z
DESCRIPTION:https://www.uni-marburg.de/de/ub/aktuelles/termine/kursprogram
 m-ub-sose-2026/texte-lesen-26-05-2026\nWorkshop für Studierende
LAST-MODIFIED:20260323T095344Z
LOCATION:Online-Veranstaltung über BigBlueButton
URL:https://www.uni-marburg.de/de/ub/aktuelles/termine/kursprogramm-ub-sos
 e-2026/texte-lesen-26-05-2026
END:VEVENT
BEGIN:VTIMEZONE
TZID:Europe/Berlin
X-LIC-LOCATION:Europe/Berlin
BEGIN:DAYLIGHT
DTSTART:20260329T030000
TZNAME:CEST
TZOFFSETFROM:+0100
TZOFFSETTO:+0200
END:DAYLIGHT
END:VTIMEZONE
END:VCALENDAR
