BEGIN:VCALENDAR
VERSION:2.0
PRODID:-//Plone.org//NONSGML plone.app.event//EN
X-WR-TIMEZONE:Europe/Berlin
BEGIN:VEVENT
SUMMARY:Textgenerative KI als Hilfsmittel für das wissenschaftliche Schre
 iben reflektiert einsetzen
DTSTART;TZID=Europe/Berlin:20260617T091500
DTEND;TZID=Europe/Berlin:20260617T124500
DTSTAMP:20260421T083239Z
UID:4597babf57084ecd92fb24ecfa4c84b0@www.uni-marburg.de
ATTENDEE;CN="Verena Mille, Referentin im Referat für Lehrentwicklung und 
 Hochschuldidaktik";ROLE=REQ-PARTICIPANT:Verena Mille, Referentin im Refera
 t für Lehrentwicklung und Hochschuldidaktik
CATEGORIES:Workshop
CREATED:20201016T122025Z
DESCRIPTION:https://www.uni-marburg.de/de/ub/aktuelles/termine/kursprogram
 m-ub-sose-2026/textgenerative-ki-17-06-2026\nWorkshop für Studierende
LAST-MODIFIED:20260323T094213Z
LOCATION:Schulungsraum der ZUB\, Ebene 0
URL:https://www.uni-marburg.de/de/ub/aktuelles/termine/kursprogramm-ub-sos
 e-2026/textgenerative-ki-17-06-2026
END:VEVENT
BEGIN:VTIMEZONE
TZID:Europe/Berlin
X-LIC-LOCATION:Europe/Berlin
BEGIN:DAYLIGHT
DTSTART:20260329T030000
TZNAME:CEST
TZOFFSETFROM:+0100
TZOFFSETTO:+0200
END:DAYLIGHT
END:VTIMEZONE
END:VCALENDAR
