BEGIN:VCALENDAR
VERSION:2.0
PRODID:-//Plone.org//NONSGML plone.app.event//EN
X-WR-TIMEZONE:Europe/Berlin
BEGIN:VEVENT
SUMMARY:Einführung in die Interactive Fiction mit Twine
DTSTART;TZID=Europe/Berlin:20260506T090000
DTEND;TZID=Europe/Berlin:20260506T130000
DTSTAMP:20260423T075445Z
UID:8b9dc0b501c84be49bdf5b12006fce00@www.uni-marburg.de
ATTENDEE;CN="Dr. Michael Mosel, Sachgebietsleiter Medienzentrum";ROLE=REQ-
 PARTICIPANT:Dr. Michael Mosel, Sachgebietsleiter Medienzentrum
CATEGORIES:Workshop
CREATED:20201016T122025Z
DESCRIPTION:https://www.uni-marburg.de/de/ub/aktuelles/termine/kursprogram
 m-ub-sose-2026/twine-06-05-2026\nWorkshop für alle Interessierten\, Besch
 äftige\, geladene Gäste\, Lehrende\, Postdocs\, Promovierende\, Studiere
 nde\, Studieninteressierte
LAST-MODIFIED:20260324T100536Z
LOCATION:Schulungsraum im Medienzentrum\, ZUB
URL:https://www.uni-marburg.de/de/ub/aktuelles/termine/kursprogramm-ub-sos
 e-2026/twine-06-05-2026
END:VEVENT
BEGIN:VTIMEZONE
TZID:Europe/Berlin
X-LIC-LOCATION:Europe/Berlin
BEGIN:DAYLIGHT
DTSTART:20260329T030000
TZNAME:CEST
TZOFFSETFROM:+0100
TZOFFSETTO:+0200
END:DAYLIGHT
END:VTIMEZONE
END:VCALENDAR
