BEGIN:VCALENDAR
VERSION:2.0
PRODID:-//Plone.org//NONSGML plone.app.event//EN
X-WR-TIMEZONE:Europe/Berlin
BEGIN:VEVENT
SUMMARY:Video Tutorials mit OBS aufnehmen
DTSTART;TZID=Europe/Berlin:20260513T090000
DTEND;TZID=Europe/Berlin:20260513T130000
DTSTAMP:20260421T212714Z
UID:858d9fbbce0542cf9698718d29781c67@www.uni-marburg.de
ATTENDEE;CN="Aaron Beller, Medienzentrum UB";ROLE=REQ-PARTICIPANT:Aaron Be
 ller, Medienzentrum UB
CATEGORIES:Workshop
CREATED:20201016T122025Z
DESCRIPTION:https://www.uni-marburg.de/de/ub/aktuelles/termine/kursprogram
 m-ub-sose-2026/video-tutorials-13-05-2026\nWorkshop für alle Interessiert
 en
LAST-MODIFIED:20260323T152826Z
LOCATION:Schulungsraum im Medienzentrum\, ZUB
URL:https://www.uni-marburg.de/de/ub/aktuelles/termine/kursprogramm-ub-sos
 e-2026/video-tutorials-13-05-2026
END:VEVENT
BEGIN:VTIMEZONE
TZID:Europe/Berlin
X-LIC-LOCATION:Europe/Berlin
BEGIN:DAYLIGHT
DTSTART:20260329T030000
TZNAME:CEST
TZOFFSETFROM:+0100
TZOFFSETTO:+0200
END:DAYLIGHT
END:VTIMEZONE
END:VCALENDAR
