BEGIN:VCALENDAR
VERSION:2.0
PRODID:-//Plone.org//NONSGML plone.app.event//EN
X-WR-TIMEZONE:Europe/Berlin
BEGIN:VEVENT
SUMMARY:Wissenschaftliches Schreiben von A bis Z
DTSTART;TZID=Europe/Berlin:20260520T141500
DTEND;TZID=Europe/Berlin:20260520T174500
DTSTAMP:20260421T133203Z
UID:d548f85546fd4cfb9e1fbdb0eb3a4958@www.uni-marburg.de
ATTENDEE;CN="Dr. Andrea Beutlhauser, Lektorin, Schreibcoach und Lehrbeauft
 ragte";ROLE=REQ-PARTICIPANT:Dr. Andrea Beutlhauser, Lektorin, Schreibcoach
  und Lehrbeauftragte
CATEGORIES:Workshop
CREATED:20201016T122025Z
DESCRIPTION:https://www.uni-marburg.de/de/ub/aktuelles/termine/kursprogram
 m-ub-sose-2026/wiss-schreiben-20-05-2026\nWorkshop für Studierende
LAST-MODIFIED:20260323T134457Z
LOCATION:Schulungsraum der ZUB\, Ebene 0
URL:https://www.uni-marburg.de/de/ub/aktuelles/termine/kursprogramm-ub-sos
 e-2026/wiss-schreiben-20-05-2026
END:VEVENT
BEGIN:VTIMEZONE
TZID:Europe/Berlin
X-LIC-LOCATION:Europe/Berlin
BEGIN:DAYLIGHT
DTSTART:20260329T030000
TZNAME:CEST
TZOFFSETFROM:+0100
TZOFFSETTO:+0200
END:DAYLIGHT
END:VTIMEZONE
END:VCALENDAR
