BEGIN:VCALENDAR
VERSION:2.0
PRODID:-//Plone.org//NONSGML plone.app.event//EN
X-WR-TIMEZONE:Europe/Berlin
BEGIN:VEVENT
SUMMARY:How to write in Natural and Life Sciences
DTSTART;TZID=Europe/Berlin:20260610T101500
DTEND;TZID=Europe/Berlin:20260610T134500
DTSTAMP:20260421T083107Z
UID:8ae3a86e18684ede82a23af3cb2615b3@www.uni-marburg.de
ATTENDEE;CN="Dr. Ralf Gente, Physicist, Writing Consultant";ROLE=REQ-PARTI
 CIPANT:Dr. Ralf Gente, Physicist, Writing Consultant
CATEGORIES:Workshop
CREATED:20201016T122025Z
DESCRIPTION:https://www.uni-marburg.de/de/ub/aktuelles/termine/kursprogram
 m-ub-sose-2026/write-10-06-2026\nWorkshop for students
LAST-MODIFIED:20260323T121134Z
LOCATION:Online via BigBlueButton
URL:https://www.uni-marburg.de/de/ub/aktuelles/termine/kursprogramm-ub-sos
 e-2026/write-10-06-2026
END:VEVENT
BEGIN:VTIMEZONE
TZID:Europe/Berlin
X-LIC-LOCATION:Europe/Berlin
BEGIN:DAYLIGHT
DTSTART:20260329T030000
TZNAME:CEST
TZOFFSETFROM:+0100
TZOFFSETTO:+0200
END:DAYLIGHT
END:VTIMEZONE
END:VCALENDAR
