BEGIN:VCALENDAR
VERSION:2.0
PRODID:-//Plone.org//NONSGML plone.app.event//EN
X-WR-TIMEZONE:Europe/Berlin
BEGIN:VEVENT
SUMMARY:Effizient arbeiten: Zeitmanagement für Schreibprojekte
DTSTART;TZID=Europe/Berlin:20260625T101500
DTEND;TZID=Europe/Berlin:20260625T114500
DTSTAMP:20260420T155713Z
UID:9aaa4af1e8e144aba3aafa5b45320a50@www.uni-marburg.de
ATTENDEE;CN="Sylvia Langwald, Schreibberaterin, Anglistin und Leiterin des
  Lernzentrums der UB Marburg";ROLE=REQ-PARTICIPANT:Sylvia Langwald, Schrei
 bberaterin, Anglistin und Leiterin des Lernzentrums der UB Marburg
CATEGORIES:Workshop
CREATED:20201016T122025Z
DESCRIPTION:https://www.uni-marburg.de/de/ub/aktuelles/termine/kursprogram
 m-ub-sose-2026/zeitmanagement-25-06-2026\nWorkshop für Studierende
LAST-MODIFIED:20260323T110244Z
LOCATION:Online-Veranstaltung über BigBlueButton
URL:https://www.uni-marburg.de/de/ub/aktuelles/termine/kursprogramm-ub-sos
 e-2026/zeitmanagement-25-06-2026
END:VEVENT
BEGIN:VTIMEZONE
TZID:Europe/Berlin
X-LIC-LOCATION:Europe/Berlin
BEGIN:DAYLIGHT
DTSTART:20260329T030000
TZNAME:CEST
TZOFFSETFROM:+0100
TZOFFSETTO:+0200
END:DAYLIGHT
END:VTIMEZONE
END:VCALENDAR
