BEGIN:VCALENDAR
VERSION:2.0
PRODID:-//Plone.org//NONSGML plone.app.event//EN
X-WR-TIMEZONE:Europe/Berlin
BEGIN:VEVENT
SUMMARY:Zitieren in wissenschaftlichen Arbeiten – Eine Einführung
DTSTART;TZID=Europe/Berlin:20260626T101500
DTEND;TZID=Europe/Berlin:20260626T141500
DTSTAMP:20260421T083546Z
UID:0a8e4ba6fbe34f2387fde718ccb4b1a5@www.uni-marburg.de
ATTENDEE;CN="Dominic Anton, Peer-Schreibberater";ROLE=REQ-PARTICIPANT:Domi
 nic Anton, Peer-Schreibberater
CATEGORIES:Workshop
CREATED:20201016T122025Z
DESCRIPTION:https://www.uni-marburg.de/de/ub/aktuelles/termine/kursprogram
 m-ub-sose-2026/zitieren-26-06-2026\nWorkshop für Studierende
LAST-MODIFIED:20260326T055756Z
LOCATION:Schulungsraum der ZUB\, Ebene 0
URL:https://www.uni-marburg.de/de/ub/aktuelles/termine/kursprogramm-ub-sos
 e-2026/zitieren-26-06-2026
END:VEVENT
BEGIN:VTIMEZONE
TZID:Europe/Berlin
X-LIC-LOCATION:Europe/Berlin
BEGIN:DAYLIGHT
DTSTART:20260329T030000
TZNAME:CEST
TZOFFSETFROM:+0100
TZOFFSETTO:+0200
END:DAYLIGHT
END:VTIMEZONE
END:VCALENDAR
