BEGIN:VCALENDAR
VERSION:2.0
PRODID:-//Plone.org//NONSGML plone.app.event//EN
X-WR-TIMEZONE:Europe/Berlin
BEGIN:VEVENT
SUMMARY:Literaturverwaltung mit Zotero und MS Word
DTSTART;TZID=Europe/Berlin:20260528T141500
DTEND;TZID=Europe/Berlin:20260528T160000
DTSTAMP:20260421T120417Z
UID:3c9d46ae1ce44125be712582478361db@www.uni-marburg.de
ATTENDEE;CN="Dr. Ursula Winter, Fachreferentin";ROLE=REQ-PARTICIPANT:Dr. U
 rsula Winter, Fachreferentin
CATEGORIES:Literaturverwaltungsprogramm
CREATED:20201016T122025Z
DESCRIPTION:https://www.uni-marburg.de/de/ub/aktuelles/termine/kursprogram
 m-ub-sose-2026/zotero-28-05-2026\nWorkshop für alle Interessierten
LAST-MODIFIED:20260303T065319Z
LOCATION:Schulungsraum der ZUB\, Ebene 0
URL:https://www.uni-marburg.de/de/ub/aktuelles/termine/kursprogramm-ub-sos
 e-2026/zotero-28-05-2026
END:VEVENT
BEGIN:VTIMEZONE
TZID:Europe/Berlin
X-LIC-LOCATION:Europe/Berlin
BEGIN:DAYLIGHT
DTSTART:20260329T030000
TZNAME:CEST
TZOFFSETFROM:+0100
TZOFFSETTO:+0200
END:DAYLIGHT
END:VTIMEZONE
END:VCALENDAR
