BEGIN:VCALENDAR
VERSION:2.0
PRODID:-//Plone.org//NONSGML plone.app.event//EN
X-WR-TIMEZONE:Europe/Berlin
BEGIN:VEVENT
SUMMARY:Einführung ins Forschungsdatenmanagement
DTSTART;TZID=Europe/Berlin:20220705T100000
DTEND;TZID=Europe/Berlin:20220705T130000
DTSTAMP:20260421T050054Z
UID:d72983a9c5f34222b8ce25fb9e5a6c66@www.uni-marburg.de
ATTENDEE;CN="Dr. Birte Cordes, Forschungsdatenreferentin";ROLE=REQ-PARTICI
 PANT:Dr. Birte Cordes, Forschungsdatenreferentin
CREATED:20201016T122025Z
DESCRIPTION:https://www.uni-marburg.de/de/ub/aktuelles/termine/kursprogram
 m-ub-ss-2022/einfuehrung-forschungsdatenmanagement\nWorkshop für alle Int
 eressierten\, Beschäftige\, Postdocs\, Promovierende\, Studierende
LAST-MODIFIED:20220414T091049Z
LOCATION:Online-Veranstaltung über Big Blue Button
URL:https://www.uni-marburg.de/de/ub/aktuelles/termine/kursprogramm-ub-ss-
 2022/einfuehrung-forschungsdatenmanagement
END:VEVENT
BEGIN:VTIMEZONE
TZID:Europe/Berlin
X-LIC-LOCATION:Europe/Berlin
BEGIN:DAYLIGHT
DTSTART:20220327T030000
TZNAME:CEST
TZOFFSETFROM:+0100
TZOFFSETTO:+0200
END:DAYLIGHT
END:VTIMEZONE
END:VCALENDAR
