BEGIN:VCALENDAR
VERSION:2.0
PRODID:-//Plone.org//NONSGML plone.app.event//EN
X-WR-TIMEZONE:Europe/Berlin
BEGIN:VEVENT
SUMMARY:Style in English Academic Writing
DTSTART;TZID=Europe/Berlin:20241213T093000
DTEND;TZID=Europe/Berlin:20241213T133000
DTSTAMP:20260425T043908Z
UID:68b47503fd2b483b9e928ae5d764f0d1@www.uni-marburg.de
ATTENDEE;CN="Carly Crane, Amerikanistin, Schreibberaterin und Schreibforsc
 herin";ROLE=REQ-PARTICIPANT:Carly Crane, Amerikanistin, Schreibberaterin u
 nd Schreibforscherin
CREATED:20201016T122025Z
DESCRIPTION:https://www.uni-marburg.de/de/ub/aktuelles/termine/kursprogram
 m-ub-wise-2024-25/style-academic-writing-13-12-2024\nWorkshop for students
LAST-MODIFIED:20240910T100848Z
LOCATION:Schulungsraum der UB im EG
URL:https://www.uni-marburg.de/de/ub/aktuelles/termine/kursprogramm-ub-wis
 e-2024-25/style-academic-writing-13-12-2024
END:VEVENT
BEGIN:VTIMEZONE
TZID:Europe/Berlin
X-LIC-LOCATION:Europe/Berlin
BEGIN:STANDARD
DTSTART:20241027T020000
TZNAME:CET
TZOFFSETFROM:+0200
TZOFFSETTO:+0100
END:STANDARD
END:VTIMEZONE
END:VCALENDAR
