BEGIN:VCALENDAR
VERSION:2.0
PRODID:-//Plone.org//NONSGML plone.app.event//EN
X-WR-TIMEZONE:Europe/Berlin
BEGIN:VEVENT
SUMMARY:Wissenschaftliches Schreiben in den Natur- und Lebenswissenschafte
 n
DTSTART;TZID=Europe/Berlin:20250127T090000
DTEND;TZID=Europe/Berlin:20250127T130000
DTSTAMP:20260424T173423Z
UID:2762b76366bd4d30ae12d7ef0c4903b8@www.uni-marburg.de
ATTENDEE;CN="Dr. Lydia Riedl, Sprachwissenschaftlerin, Neurowissenschaftle
 rin und Referentin an der UB Marburg";ROLE=REQ-PARTICIPANT:Dr. Lydia Riedl
 , Sprachwissenschaftlerin, Neurowissenschaftlerin und Referentin an der UB
  Marburg
CREATED:20201016T122025Z
DESCRIPTION:https://www.uni-marburg.de/de/ub/aktuelles/termine/kursprogram
 m-ub-wise-2024-25/wissenschaftliches-schreiben-natur-27-01-2025\nWorkshop 
 für Studierende
LAST-MODIFIED:20240904T094559Z
LOCATION:Schulungsraum der UB im EG
URL:https://www.uni-marburg.de/de/ub/aktuelles/termine/kursprogramm-ub-wis
 e-2024-25/wissenschaftliches-schreiben-natur-27-01-2025
END:VEVENT
BEGIN:VTIMEZONE
TZID:Europe/Berlin
X-LIC-LOCATION:Europe/Berlin
BEGIN:STANDARD
DTSTART:20241027T020000
TZNAME:CET
TZOFFSETFROM:+0200
TZOFFSETTO:+0100
END:STANDARD
END:VTIMEZONE
END:VCALENDAR
