BEGIN:VCALENDAR
VERSION:2.0
PRODID:-//Plone.org//NONSGML plone.app.event//EN
X-WR-TIMEZONE:Europe/Berlin
BEGIN:VEVENT
SUMMARY:Effektiv Zitieren: Literaturverwaltung mit Citavi
DTSTART;TZID=Europe/Berlin:20260416T141500
DTEND;TZID=Europe/Berlin:20260416T154500
DTSTAMP:20260424T190608Z
UID:955ba525b6de4bd494196b2d1bbb4fb0@www.uni-marburg.de
ATTENDEE;CN="Andreas Seibel, Citavi-Team der UB";ROLE=REQ-PARTICIPANT:Andr
 eas Seibel, Citavi-Team der UB
CREATED:20201016T122025Z
DESCRIPTION:https://www.uni-marburg.de/de/ub/aktuelles/termine/kursprogram
 m-ub-wise-2025-26/citavi-16-04-2026\nWorkshop für Studierende
LAST-MODIFIED:20250903T095019Z
LOCATION:Online-Veranstaltung über BigBlueButton
URL:https://www.uni-marburg.de/de/ub/aktuelles/termine/kursprogramm-ub-wis
 e-2025-26/citavi-16-04-2026
END:VEVENT
BEGIN:VTIMEZONE
TZID:Europe/Berlin
X-LIC-LOCATION:Europe/Berlin
BEGIN:DAYLIGHT
DTSTART:20260329T030000
TZNAME:CEST
TZOFFSETFROM:+0100
TZOFFSETTO:+0200
END:DAYLIGHT
END:VTIMEZONE
END:VCALENDAR
