BEGIN:VCALENDAR
VERSION:2.0
PRODID:-//Plone.org//NONSGML plone.app.event//EN
X-WR-TIMEZONE:Europe/Berlin
BEGIN:VEVENT
SUMMARY:Recherchieren mit der MLA-Datenbank in den Fremdsprachlichen Philo
 logien
DTSTART;TZID=Europe/Berlin:20220113T160000
DTEND;TZID=Europe/Berlin:20220113T180000
DTSTAMP:20260420T004738Z
UID:9f1933bc8ecb462a80ca13958c7b84bd@www.uni-marburg.de
ATTENDEE;CN="Ursula Winter, Fachreferentin";ROLE=REQ-PARTICIPANT:Ursula Wi
 nter, Fachreferentin
ATTENDEE;CN=" ";ROLE=REQ-PARTICIPANT: 
CREATED:20210302T091611Z
DESCRIPTION:https://www.uni-marburg.de/de/ub/aktuelles/termine/kursprogram
 m-ub-ws-2021-22/recherchieren-mit-der-mla-datenbank\nWorkshop/Schulung fü
 r alle Interessierten
LAST-MODIFIED:20220414T091048Z
LOCATION:Online-Veranstaltung über Big Blue Button
URL:https://www.uni-marburg.de/de/ub/aktuelles/termine/kursprogramm-ub-ws-
 2021-22/recherchieren-mit-der-mla-datenbank
END:VEVENT
BEGIN:VTIMEZONE
TZID:Europe/Berlin
X-LIC-LOCATION:Europe/Berlin
BEGIN:STANDARD
DTSTART:20211031T020000
TZNAME:CET
TZOFFSETFROM:+0200
TZOFFSETTO:+0100
END:STANDARD
END:VTIMEZONE
END:VCALENDAR
