BEGIN:VCALENDAR
VERSION:2.0
PRODID:-//Plone.org//NONSGML plone.app.event//EN
X-WR-TIMEZONE:Europe/Berlin
BEGIN:VEVENT
SUMMARY:Nacht der Hausarbeiten
DTSTART;TZID=Europe/Berlin:20240307T160000
DTEND;TZID=Europe/Berlin:20240307T220000
DTSTAMP:20260423T174236Z
UID:1235432dd6ec46508096a6788c785af4@www.uni-marburg.de
CATEGORIES:hausarbeit,schreibwerkstatt,literaturrecherche,schreiben
CREATED:20220805T085946Z
DESCRIPTION:https://www.uni-marburg.de/de/ub/aktuelles/termine/nacht-der-h
 ausarbeiten-24\n
LAST-MODIFIED:20240208T150755Z
LOCATION:Universitätsbibliothek\, Deutschhausstraße 9
URL:https://www.uni-marburg.de/de/ub/aktuelles/termine/nacht-der-hausarbei
 ten-24
END:VEVENT
BEGIN:VTIMEZONE
TZID:Europe/Berlin
X-LIC-LOCATION:Europe/Berlin
BEGIN:STANDARD
DTSTART:20231029T020000
TZNAME:CET
TZOFFSETFROM:+0200
TZOFFSETTO:+0100
END:STANDARD
END:VTIMEZONE
END:VCALENDAR
