BEGIN:VCALENDAR
VERSION:2.0
PRODID:-//Plone.org//NONSGML plone.app.event//EN
X-WR-TIMEZONE:Europe/Berlin
BEGIN:VEVENT
SUMMARY:Nacht der Hausarbeiten
DTSTART;TZID=Europe/Berlin:20220901T133000
DTEND;TZID=Europe/Berlin:20220901T190000
DTSTAMP:20260424T003955Z
UID:2ce6458a13e84c7b8cc77a4f60995c43@www.uni-marburg.de
CATEGORIES:hausarbeit,schreibwerkstatt,literaturrecherche,schreiben
CREATED:20220805T085946Z
DESCRIPTION:https://www.uni-marburg.de/de/ub/aktuelles/termine/nacht-der-h
 ausarbeiten\n
LAST-MODIFIED:20220805T091317Z
LOCATION:Universitätsbibliothek\, Deutschhausstraße 9
URL:https://www.uni-marburg.de/de/ub/aktuelles/termine/nacht-der-hausarbei
 ten
END:VEVENT
BEGIN:VTIMEZONE
TZID:Europe/Berlin
X-LIC-LOCATION:Europe/Berlin
BEGIN:DAYLIGHT
DTSTART:20220327T030000
TZNAME:CEST
TZOFFSETFROM:+0100
TZOFFSETTO:+0200
END:DAYLIGHT
END:VTIMEZONE
END:VCALENDAR
