BEGIN:VCALENDAR
VERSION:2.0
PRODID:-//Plone.org//NONSGML plone.app.event//EN
X-WR-TIMEZONE:Europe/Berlin
BEGIN:VEVENT
SUMMARY:OpenStudio
DTSTART;TZID=Europe/Berlin:20250211T160000
DTEND;TZID=Europe/Berlin:20250211T190000
DTSTAMP:20260423T183550Z
UID:e44589e679f34d21984c00cf9bdedf0b@www.uni-marburg.de
CREATED:20241025T163249Z
DESCRIPTION:https://www.uni-marburg.de/de/ub/aktuelles/termine/openstudio\
 n
LAST-MODIFIED:20241025T163258Z
LOCATION:Filmraum Medienzentrum
URL:https://www.uni-marburg.de/de/ub/aktuelles/termine/openstudio
END:VEVENT
BEGIN:VTIMEZONE
TZID:Europe/Berlin
X-LIC-LOCATION:Europe/Berlin
BEGIN:STANDARD
DTSTART:20241027T020000
TZNAME:CET
TZOFFSETFROM:+0200
TZOFFSETTO:+0100
END:STANDARD
END:VTIMEZONE
END:VCALENDAR
