BEGIN:VCALENDAR
VERSION:2.0
PRODID:-//Plone.org//NONSGML plone.app.event//EN
X-WR-TIMEZONE:Europe/Berlin
BEGIN:VEVENT
SUMMARY:OpenStudioMarburg
DTSTART;TZID=Europe/Berlin:20230208T160000
DTEND;TZID=Europe/Berlin:20230208T190000
DTSTAMP:20260424T003553Z
UID:11cfd4b817584e67b8a33962cacb4aa2@www.uni-marburg.de
CREATED:20221114T135302Z
DESCRIPTION:https://www.uni-marburg.de/de/ub/aktuelles/termine/openstudiom
 arburg-1\n
LAST-MODIFIED:20230131T165915Z
LOCATION:Medienzentrum der UB\, Schulungsraum
URL:https://www.uni-marburg.de/de/ub/aktuelles/termine/openstudiomarburg-1
END:VEVENT
BEGIN:VTIMEZONE
TZID:Europe/Berlin
X-LIC-LOCATION:Europe/Berlin
BEGIN:STANDARD
DTSTART:20221030T020000
TZNAME:CET
TZOFFSETFROM:+0200
TZOFFSETTO:+0100
END:STANDARD
END:VTIMEZONE
END:VCALENDAR
