BEGIN:VCALENDAR
VERSION:2.0
PRODID:-//Plone.org//NONSGML plone.app.event//EN
X-WR-TIMEZONE:Europe/Berlin
BEGIN:VEVENT
SUMMARY:OpenStudioMarburg
DTSTART;TZID=Europe/Berlin:20240507T160000
DTEND;TZID=Europe/Berlin:20240507T190000
DTSTAMP:20260424T003343Z
UID:aa74785d4df84cfca3f709a3046ddea4@www.uni-marburg.de
CREATED:20240402T110724Z
DESCRIPTION:https://www.uni-marburg.de/de/ub/aktuelles/termine/openstudiom
 arburg\n
LAST-MODIFIED:20240402T111049Z
LOCATION:XSpace Open Lab (Gruppenraum 59\, Ebene 3)\, UB
URL:https://www.uni-marburg.de/de/ub/aktuelles/termine/openstudiomarburg
END:VEVENT
BEGIN:VTIMEZONE
TZID:Europe/Berlin
X-LIC-LOCATION:Europe/Berlin
BEGIN:DAYLIGHT
DTSTART:20240331T030000
TZNAME:CEST
TZOFFSETFROM:+0100
TZOFFSETTO:+0200
END:DAYLIGHT
END:VTIMEZONE
END:VCALENDAR
