BEGIN:VCALENDAR
VERSION:2.0
PRODID:-//Plone.org//NONSGML plone.app.event//EN
X-WR-TIMEZONE:Europe/Berlin
BEGIN:VEVENT
SUMMARY:Medizinische Systematic Reviews\, MEDLINE\, Embase\, Web of Scienc
 e\, h-Index\, Impact Factor\, EndNote\, ...
DTSTART;TZID=Europe/Berlin:20220622T140000
DTEND;TZID=Europe/Berlin:20220622T153000
DTSTAMP:20260424T024831Z
UID:5c69ef0eb91147c88d864d6d50a62c4f@www.uni-marburg.de
ATTENDEE;CN="Susanne Waldmann";ROLE=REQ-PARTICIPANT:Susanne Waldmann
CATEGORIES:Literaturrecherche,PubMed,MEDLINE,MeSH,Datenbank,EndNote,System
 atic Reviews,Web of Science,h-Index,Impact Factor,Embase
CREATED:20180411T133459Z
DESCRIPTION:https://www.uni-marburg.de/de/ub/aktuelles/termine/pubmed/medi
 nfo-20220121\nFragestunde & Wunschthemen
LAST-MODIFIED:20220608T122258Z
LOCATION:Zentrale Medizinische Bibliothek (ZMB)\, Conradistr. 3a\, Multime
 dia-Raum\, 2. OG (Lahnberge)
URL:https://www.uni-marburg.de/de/ub/aktuelles/termine/pubmed/medinfo-2022
 0121
END:VEVENT
BEGIN:VTIMEZONE
TZID:Europe/Berlin
X-LIC-LOCATION:Europe/Berlin
BEGIN:DAYLIGHT
DTSTART:20220327T030000
TZNAME:CEST
TZOFFSETFROM:+0100
TZOFFSETTO:+0200
END:DAYLIGHT
END:VTIMEZONE
END:VCALENDAR
