BEGIN:VCALENDAR
VERSION:2.0
PRODID:-//Plone.org//NONSGML plone.app.event//EN
X-WR-TIMEZONE:Europe/Berlin
BEGIN:VEVENT
SUMMARY:Systematische Literaturrecherche mit PubMed
DTSTART;TZID=Europe/Berlin:20220824T140000
DTEND;TZID=Europe/Berlin:20220824T153000
DTSTAMP:20260424T025018Z
UID:8dc5798e23044cb0afb97e3165c14f4c@www.uni-marburg.de
ATTENDEE;CN="Susanne Waldmann";ROLE=REQ-PARTICIPANT:Susanne Waldmann
CATEGORIES:Literaturrecherche,PubMed,MEDLINE,MeSH,Datenbank
CREATED:20180411T133459Z
DESCRIPTION:https://www.uni-marburg.de/de/ub/aktuelles/termine/pubmed/pubm
 ed-syslit-20220824\nFür Medizin und Psychologie
LAST-MODIFIED:20220808T072218Z
LOCATION:Zentrale Medizinische Bibliothek\, 2. OG\, Multimedia-Raum
URL:https://www.uni-marburg.de/de/ub/aktuelles/termine/pubmed/pubmed-sysli
 t-20220824
END:VEVENT
BEGIN:VTIMEZONE
TZID:Europe/Berlin
X-LIC-LOCATION:Europe/Berlin
BEGIN:DAYLIGHT
DTSTART:20220327T030000
TZNAME:CEST
TZOFFSETFROM:+0100
TZOFFSETTO:+0200
END:DAYLIGHT
END:VTIMEZONE
END:VCALENDAR
