BEGIN:VCALENDAR
VERSION:2.0
PRODID:-//Plone.org//NONSGML plone.app.event//EN
X-WR-TIMEZONE:Europe/Berlin
BEGIN:VEVENT
SUMMARY:Systematische Literaturrecherche mit PubMed
DTSTART;TZID=Europe/Berlin:20221116T103000
DTEND;TZID=Europe/Berlin:20221116T120000
DTSTAMP:20260423T194424Z
UID:7694c985c9e640d3ae5dce216e09bb83@www.uni-marburg.de
ATTENDEE;CN="Susanne Waldmann";ROLE=REQ-PARTICIPANT:Susanne Waldmann
CATEGORIES:Literaturrecherche,PubMed,MEDLINE,MeSH,Datenbank
CREATED:20180411T133459Z
DESCRIPTION:https://www.uni-marburg.de/de/ub/aktuelles/termine/pubmed/pubm
 ed-syslit-20221116\nFür Medizin und Psychologie
LAST-MODIFIED:20220912T121358Z
LOCATION:Zentrale Medizinische Bibliothek\, 2. OG\, Multimedia-Raum
URL:https://www.uni-marburg.de/de/ub/aktuelles/termine/pubmed/pubmed-sysli
 t-20221116
END:VEVENT
BEGIN:VTIMEZONE
TZID:Europe/Berlin
X-LIC-LOCATION:Europe/Berlin
BEGIN:STANDARD
DTSTART:20221030T020000
TZNAME:CET
TZOFFSETFROM:+0200
TZOFFSETTO:+0100
END:STANDARD
END:VTIMEZONE
END:VCALENDAR
