BEGIN:VCALENDAR
VERSION:2.0
PRODID:-//Plone.org//NONSGML plone.app.event//EN
X-WR-TIMEZONE:Europe/Berlin
BEGIN:VEVENT
SUMMARY:Thematischer Spieleabend: Evolings - Die Evolution eines Indie-Spi
 els
DTSTART;TZID=Europe/Berlin:20230209T160000
DTEND;TZID=Europe/Berlin:20230209T190000
DTSTAMP:20260423T051930Z
UID:c90d081cf2e04e2e8762ce1a1723734e@www.uni-marburg.de
ATTENDEE;CN="Sebastian Lieb";ROLE=REQ-PARTICIPANT:Sebastian Lieb
CREATED:20230131T170428Z
DESCRIPTION:https://www.uni-marburg.de/de/ub/aktuelles/termine/thematische
 r-spieleabend-evolings-die-evolution-eines-indie-spiels\n
LAST-MODIFIED:20230201T125931Z
LOCATION:XSpace Game Lab (Gruppenraum 50\, +2/2080)
URL:https://www.uni-marburg.de/de/ub/aktuelles/termine/thematischer-spiele
 abend-evolings-die-evolution-eines-indie-spiels
END:VEVENT
BEGIN:VTIMEZONE
TZID:Europe/Berlin
X-LIC-LOCATION:Europe/Berlin
BEGIN:STANDARD
DTSTART:20221030T020000
TZNAME:CET
TZOFFSETFROM:+0200
TZOFFSETTO:+0100
END:STANDARD
END:VTIMEZONE
END:VCALENDAR
