BEGIN:VCALENDAR
VERSION:2.0
PRODID:-//Plone.org//NONSGML plone.app.event//EN
X-WR-TIMEZONE:Europe/Berlin
BEGIN:VEVENT
SUMMARY:Thematischer Spieleabend: ‚Realismus‘ in Computerspielen
DTSTART;TZID=Europe/Berlin:20240523T160000
DTEND;TZID=Europe/Berlin:20240523T190000
DTSTAMP:20260423T120138Z
UID:f3da444180d74d57a0c220b88d5a019e@www.uni-marburg.de
ATTENDEE;CN="Dr. Michael Mosel ";ROLE=REQ-PARTICIPANT:Dr. Michael Mosel 
CREATED:20240517T084117Z
DESCRIPTION:https://www.uni-marburg.de/de/ub/aktuelles/termine/thematische
 r-spieleabend-realismus-in-computerspielen\n
LAST-MODIFIED:20240517T084603Z
LOCATION:XSpace Game Lab (Gruppenraum 50\, Universitätsbibliothek)
URL:https://www.uni-marburg.de/de/ub/aktuelles/termine/thematischer-spiele
 abend-realismus-in-computerspielen
END:VEVENT
BEGIN:VTIMEZONE
TZID:Europe/Berlin
X-LIC-LOCATION:Europe/Berlin
BEGIN:DAYLIGHT
DTSTART:20240331T030000
TZNAME:CEST
TZOFFSETFROM:+0100
TZOFFSETTO:+0200
END:DAYLIGHT
END:VTIMEZONE
END:VCALENDAR
