BEGIN:VCALENDAR
VERSION:2.0
PRODID:-//Plone.org//NONSGML plone.app.event//EN
X-WR-TIMEZONE:Europe/Berlin
BEGIN:VEVENT
SUMMARY:Thematischer Spieleabend: Sport in Computerspielen
DTSTART;TZID=Europe/Berlin:20230524T160000
DTEND;TZID=Europe/Berlin:20230524T190000
DTSTAMP:20260423T063248Z
UID:8f306757ffbd41db8753ed8489f869f2@www.uni-marburg.de
ATTENDEE;CN="Prof. Dr. Ulrich Theobald";ROLE=REQ-PARTICIPANT:Prof. Dr. Ulr
 ich Theobald
CREATED:20230418T131003Z
DESCRIPTION:https://www.uni-marburg.de/de/ub/aktuelles/termine/thematische
 r-spieleabend-sport-in-computerspielen\n
LAST-MODIFIED:20230418T132748Z
LOCATION:XSpace Game Lab (Gruppenraum 50\, +2/2080) Universitätsbibliothe
 k
URL:https://www.uni-marburg.de/de/ub/aktuelles/termine/thematischer-spiele
 abend-sport-in-computerspielen
END:VEVENT
BEGIN:VTIMEZONE
TZID:Europe/Berlin
X-LIC-LOCATION:Europe/Berlin
BEGIN:DAYLIGHT
DTSTART:20230326T030000
TZNAME:CEST
TZOFFSETFROM:+0100
TZOFFSETTO:+0200
END:DAYLIGHT
END:VTIMEZONE
END:VCALENDAR
