BEGIN:VCALENDAR
VERSION:2.0
PRODID:-//Plone.org//NONSGML plone.app.event//EN
X-WR-TIMEZONE:Europe/Berlin
BEGIN:VEVENT
SUMMARY:Treffen der OpenStudio AG
DTSTART;TZID=Europe/Berlin:20260113T160000
DTEND;TZID=Europe/Berlin:20260113T190000
DTSTAMP:20260424T003325Z
UID:979d244564574860b8e29f6b7b58f542@www.uni-marburg.de
CREATED:20251106T141837Z
DESCRIPTION:https://www.uni-marburg.de/de/ub/aktuelles/termine/treffen-der
 -openstudio-ag-1\n
LAST-MODIFIED:20251106T141851Z
LOCATION:Schulungsraum Medienzentrum (+1/3170) der Universitätsbibliothek
URL:https://www.uni-marburg.de/de/ub/aktuelles/termine/treffen-der-openstu
 dio-ag-1
END:VEVENT
BEGIN:VTIMEZONE
TZID:Europe/Berlin
X-LIC-LOCATION:Europe/Berlin
BEGIN:STANDARD
DTSTART:20251026T020000
TZNAME:CET
TZOFFSETFROM:+0200
TZOFFSETTO:+0100
END:STANDARD
END:VTIMEZONE
END:VCALENDAR
