BEGIN:VCALENDAR
VERSION:2.0
PRODID:-//Plone.org//NONSGML plone.app.event//EN
X-WR-TIMEZONE:Europe/Berlin
BEGIN:VEVENT
SUMMARY:Treffen der OpenStudio AG
DTSTART;TZID=Europe/Berlin:20251111T160000
DTEND;TZID=Europe/Berlin:20251111T190000
DTSTAMP:20260424T043833Z
UID:5619e585dea646e7aa493bd4e414ad60@www.uni-marburg.de
CATEGORIES:()
CREATED:20251106T141209Z
DESCRIPTION:https://www.uni-marburg.de/de/ub/aktuelles/termine/treffen-der
 -openstudio-ag\n
LAST-MODIFIED:20251106T141300Z
LOCATION:Schulungsraum Medienzentrum (+1/3170)
URL:https://www.uni-marburg.de/de/ub/aktuelles/termine/treffen-der-openstu
 dio-ag
END:VEVENT
BEGIN:VTIMEZONE
TZID:Europe/Berlin
X-LIC-LOCATION:Europe/Berlin
BEGIN:STANDARD
DTSTART:20251026T020000
TZNAME:CET
TZOFFSETFROM:+0200
TZOFFSETTO:+0100
END:STANDARD
END:VTIMEZONE
END:VCALENDAR
