BEGIN:VCALENDAR
VERSION:2.0
PRODID:-//Plone.org//NONSGML plone.app.event//EN
X-WR-TIMEZONE:Europe/Berlin
BEGIN:VEVENT
SUMMARY:Karzerbesichtigung am Tag des offenen Denkmals
DTSTART;TZID=Europe/Berlin:20250914T113000
DTEND;TZID=Europe/Berlin:20250914T153000
DTSTAMP:20260422T025512Z
UID:48f073692b124009829164446a8d943c@www.uni-marburg.de
ATTENDEE;CN="Dr. Katharina Schaal";ROLE=REQ-PARTICIPANT:Dr. Katharina Scha
 al
CREATED:20250822T094756Z
DESCRIPTION:https://www.uni-marburg.de/de/uniarchiv/aktuelles/termine/karz
 erbesichtigung-am-tag-des-offenen-denkmals-2\n
LAST-MODIFIED:20250822T095524Z
LOCATION:Alte Universität\, Reitgasse
URL:https://www.uni-marburg.de/de/uniarchiv/aktuelles/termine/karzerbesich
 tigung-am-tag-des-offenen-denkmals-2
END:VEVENT
BEGIN:VTIMEZONE
TZID:Europe/Berlin
X-LIC-LOCATION:Europe/Berlin
BEGIN:DAYLIGHT
DTSTART:20250330T030000
TZNAME:CEST
TZOFFSETFROM:+0100
TZOFFSETTO:+0200
END:DAYLIGHT
END:VTIMEZONE
END:VCALENDAR
