BEGIN:VCALENDAR
VERSION:2.0
PRODID:-//Plone.org//NONSGML plone.app.event//EN
X-WR-TIMEZONE:Europe/Berlin
BEGIN:VEVENT
SUMMARY:Senatssitzung (VP-Wahl)
DTSTART;TZID=Europe/Berlin:20190220T141500
DTEND;TZID=Europe/Berlin:20190220T190000
DTSTAMP:20260424T113509Z
UID:940d378bb05543d4bac794c325c47044@www.uni-marburg.de
CREATED:20180925T091207Z
DESCRIPTION:https://www.uni-marburg.de/de/universitaet/administration/grem
 ien/senat/termine/sitzungstermine/einladung-senat_2019-02-20\nEinladung zu
 r 5. Senatssitzung (VP-Wahl) und 6. Senatssitzung am 20.02.2019
LAST-MODIFIED:20190213T104303Z
LOCATION:Lahntor 3\, Alte Aula und Biegenstr. 12\, Senatssitzungssaal 003\
 , EG
URL:https://www.uni-marburg.de/de/universitaet/administration/gremien/sena
 t/termine/sitzungstermine/einladung-senat_2019-02-20
END:VEVENT
BEGIN:VTIMEZONE
TZID:Europe/Berlin
X-LIC-LOCATION:Europe/Berlin
BEGIN:STANDARD
DTSTART:20181028T020000
TZNAME:CET
TZOFFSETFROM:+0200
TZOFFSETTO:+0100
END:STANDARD
END:VTIMEZONE
END:VCALENDAR
