BEGIN:VCALENDAR
VERSION:2.0
PRODID:-//Plone.org//NONSGML plone.app.event//EN
X-WR-TIMEZONE:Europe/Berlin
BEGIN:VEVENT
SUMMARY:Senatssitzung
DTSTART;TZID=Europe/Berlin:20190327T141500
DTEND;TZID=Europe/Berlin:20190327T180000
DTSTAMP:20260424T163819Z
UID:5633e2a140334e709d6417e1dfd105cb@www.uni-marburg.de
CREATED:20180925T091513Z
DESCRIPTION:https://www.uni-marburg.de/de/universitaet/administration/grem
 ien/senat/termine/sitzungstermine/einladung-senat_2019-03-27\nEinladung zu
 r Senatssitzung am 27.03.2019
LAST-MODIFIED:20190321T103837Z
LOCATION:Biegenstr. 12\, Senatssitzungssaal 003\, EG
URL:https://www.uni-marburg.de/de/universitaet/administration/gremien/sena
 t/termine/sitzungstermine/einladung-senat_2019-03-27
END:VEVENT
BEGIN:VTIMEZONE
TZID:Europe/Berlin
X-LIC-LOCATION:Europe/Berlin
BEGIN:STANDARD
DTSTART:20181028T020000
TZNAME:CET
TZOFFSETFROM:+0200
TZOFFSETTO:+0100
END:STANDARD
END:VTIMEZONE
END:VCALENDAR
