BEGIN:VCALENDAR
VERSION:2.0
PRODID:-//Plone.org//NONSGML plone.app.event//EN
X-WR-TIMEZONE:Europe/Berlin
BEGIN:VEVENT
SUMMARY:Senatssitzung
DTSTART;TZID=Europe/Berlin:20190508T141500
DTEND;TZID=Europe/Berlin:20190508T180000
DTSTAMP:20260424T121705Z
UID:856c5b14a2c44004b85de132f1241ac2@www.uni-marburg.de
CREATED:20180925T091723Z
DESCRIPTION:https://www.uni-marburg.de/de/universitaet/administration/grem
 ien/senat/termine/sitzungstermine/einladung-senat_2019-05-08\nEinladung zu
 r Senatssitzung am 08.05.2019
LAST-MODIFIED:20190507T102721Z
LOCATION:Biegenstr. 12\, Senatssitzungssaal 003\, EG
URL:https://www.uni-marburg.de/de/universitaet/administration/gremien/sena
 t/termine/sitzungstermine/einladung-senat_2019-05-08
END:VEVENT
BEGIN:VTIMEZONE
TZID:Europe/Berlin
X-LIC-LOCATION:Europe/Berlin
BEGIN:DAYLIGHT
DTSTART:20190331T030000
TZNAME:CEST
TZOFFSETFROM:+0100
TZOFFSETTO:+0200
END:DAYLIGHT
END:VTIMEZONE
END:VCALENDAR
