BEGIN:VCALENDAR
VERSION:2.0
PRODID:-//Plone.org//NONSGML plone.app.event//EN
X-WR-TIMEZONE:Europe/Berlin
BEGIN:VEVENT
SUMMARY:Senatssitzung
DTSTART;TZID=Europe/Berlin:20190123T141500
DTEND;TZID=Europe/Berlin:20190123T180000
DTSTAMP:20260421T084756Z
UID:0679d2337f3a4653a65887482636f4e7@www.uni-marburg.de
CREATED:20180925T083244Z
DESCRIPTION:https://www.uni-marburg.de/de/universitaet/administration/grem
 ien/senat/termine/sitzungstermine/senatssitzung_2019-01-23\nEinladung zur 
 Sitzung des Senats der Philipps-Universität Marburg am 23.01.2019
LAST-MODIFIED:20180925T083439Z
LOCATION:Biegenstr. 12\, Senatssitzungssaal 003\, EG
URL:https://www.uni-marburg.de/de/universitaet/administration/gremien/sena
 t/termine/sitzungstermine/senatssitzung_2019-01-23
END:VEVENT
BEGIN:VTIMEZONE
TZID:Europe/Berlin
X-LIC-LOCATION:Europe/Berlin
BEGIN:STANDARD
DTSTART:20181028T020000
TZNAME:CET
TZOFFSETFROM:+0200
TZOFFSETTO:+0100
END:STANDARD
END:VTIMEZONE
END:VCALENDAR
