BEGIN:VCALENDAR
VERSION:2.0
PRODID:-//Plone.org//NONSGML plone.app.event//EN
X-WR-TIMEZONE:Europe/Berlin
BEGIN:VEVENT
SUMMARY:Senatssitzung
DTSTART;TZID=Europe/Berlin:20200401T141500
DTEND;TZID=Europe/Berlin:20200401T180000
DTSTAMP:20260421T181509Z
UID:4266a450993a47f19b8f0edc3953e1ff@www.uni-marburg.de
CREATED:20190911T132556Z
DESCRIPTION:https://www.uni-marburg.de/de/universitaet/administration/grem
 ien/senat/termine/sitzungstermine/senatssitzung_2020-04-01\nEinladung zur 
 Senatssitzung am 01.04.2020
LAST-MODIFIED:20200324T192407Z
LOCATION:Biegenstr. 14\, Hörsaal 00/0020 im Hörsaalgebäude
URL:https://www.uni-marburg.de/de/universitaet/administration/gremien/sena
 t/termine/sitzungstermine/senatssitzung_2020-04-01
END:VEVENT
BEGIN:VTIMEZONE
TZID:Europe/Berlin
X-LIC-LOCATION:Europe/Berlin
BEGIN:DAYLIGHT
DTSTART:20200329T030000
TZNAME:CEST
TZOFFSETFROM:+0100
TZOFFSETTO:+0200
END:DAYLIGHT
END:VTIMEZONE
END:VCALENDAR
