BEGIN:VCALENDAR
VERSION:2.0
PRODID:-//Plone.org//NONSGML plone.app.event//EN
X-WR-TIMEZONE:Europe/Berlin
BEGIN:VEVENT
SUMMARY:Senatssitzung
DTSTART;TZID=Europe/Berlin:20210324T141500
DTEND;TZID=Europe/Berlin:20210324T181500
DTSTAMP:20260422T062500Z
UID:0ee76d1d6e4f4ff6b449bb8b8631009f@www.uni-marburg.de
CREATED:20200814T124551Z
DESCRIPTION:https://www.uni-marburg.de/de/universitaet/administration/grem
 ien/senat/termine/sitzungstermine/senatssitzung_2021-03-24\nEinladung zur 
 Senatssitzung am 24.03.2021
LAST-MODIFIED:20210319T143139Z
LOCATION:Web-Konferenz
URL:https://www.uni-marburg.de/de/universitaet/administration/gremien/sena
 t/termine/sitzungstermine/senatssitzung_2021-03-24
END:VEVENT
BEGIN:VTIMEZONE
TZID:Europe/Berlin
X-LIC-LOCATION:Europe/Berlin
BEGIN:STANDARD
DTSTART:20201025T020000
TZNAME:CET
TZOFFSETFROM:+0200
TZOFFSETTO:+0100
END:STANDARD
END:VTIMEZONE
END:VCALENDAR
