BEGIN:VCALENDAR
VERSION:2.0
PRODID:-//Plone.org//NONSGML plone.app.event//EN
X-WR-TIMEZONE:Europe/Berlin
BEGIN:VEVENT
SUMMARY:Senatssitzung
DTSTART;TZID=Europe/Berlin:20220713T141500
DTEND;TZID=Europe/Berlin:20220713T180000
DTSTAMP:20260423T113655Z
UID:bb35212c0c134db3a9ee5f7eaf6376de@www.uni-marburg.de
CREATED:20210907T102213Z
DESCRIPTION:https://www.uni-marburg.de/de/universitaet/administration/grem
 ien/senat/termine/sitzungstermine/senatssitzung_2022-07-14\nEinladung zur 
 Senatssitzung am 13.07.2022
LAST-MODIFIED:20220706T154348Z
LOCATION:Vortragsraum der Universitätsbibliothek\, Deutschhausstr. 9
URL:https://www.uni-marburg.de/de/universitaet/administration/gremien/sena
 t/termine/sitzungstermine/senatssitzung_2022-07-14
END:VEVENT
BEGIN:VTIMEZONE
TZID:Europe/Berlin
X-LIC-LOCATION:Europe/Berlin
BEGIN:DAYLIGHT
DTSTART:20220327T030000
TZNAME:CEST
TZOFFSETFROM:+0100
TZOFFSETTO:+0200
END:DAYLIGHT
END:VTIMEZONE
END:VCALENDAR
