BEGIN:VCALENDAR
VERSION:2.0
PRODID:-//Plone.org//NONSGML plone.app.event//EN
X-WR-TIMEZONE:Europe/Berlin
BEGIN:VEVENT
SUMMARY:Senatssitzung
DTSTART;TZID=Europe/Berlin:20221012T141500
DTEND;TZID=Europe/Berlin:20221012T180000
DTSTAMP:20260423T211306Z
UID:29ef2c7ca3274002859232d6ab827d71@www.uni-marburg.de
CREATED:20210907T103634Z
DESCRIPTION:https://www.uni-marburg.de/de/universitaet/administration/grem
 ien/senat/termine/sitzungstermine/senatssitzung_2022-10-12\nEinladung zur 
 Senatssitzung am 12.10.2022
LAST-MODIFIED:20221005T134710Z
LOCATION:Senatssitzungssaal 003\, Biegenstr. 12
URL:https://www.uni-marburg.de/de/universitaet/administration/gremien/sena
 t/termine/sitzungstermine/senatssitzung_2022-10-12
END:VEVENT
BEGIN:VTIMEZONE
TZID:Europe/Berlin
X-LIC-LOCATION:Europe/Berlin
BEGIN:DAYLIGHT
DTSTART:20220327T030000
TZNAME:CEST
TZOFFSETFROM:+0100
TZOFFSETTO:+0200
END:DAYLIGHT
END:VTIMEZONE
END:VCALENDAR
