BEGIN:VCALENDAR
VERSION:2.0
PRODID:-//Plone.org//NONSGML plone.app.event//EN
X-WR-TIMEZONE:Europe/Berlin
BEGIN:VEVENT
SUMMARY:Senatssitzung
DTSTART;TZID=Europe/Berlin:20230329T141500
DTEND;TZID=Europe/Berlin:20230329T180000
DTSTAMP:20260421T230723Z
UID:e7825303856f4ae0bdd0d65e1226466d@www.uni-marburg.de
CREATED:20220913T135158Z
DESCRIPTION:https://www.uni-marburg.de/de/universitaet/administration/grem
 ien/senat/termine/sitzungstermine/senatssitzung_2023-03-29\nEinladung zur 
 Senatssitzung am 29.03.2023
LAST-MODIFIED:20230324T084313Z
LOCATION:Senatssitzungssaal 003\, Biegenstr. 12
URL:https://www.uni-marburg.de/de/universitaet/administration/gremien/sena
 t/termine/sitzungstermine/senatssitzung_2023-03-29
END:VEVENT
BEGIN:VTIMEZONE
TZID:Europe/Berlin
X-LIC-LOCATION:Europe/Berlin
BEGIN:DAYLIGHT
DTSTART:20230326T030000
TZNAME:CEST
TZOFFSETFROM:+0100
TZOFFSETTO:+0200
END:DAYLIGHT
END:VTIMEZONE
END:VCALENDAR
