BEGIN:VCALENDAR
VERSION:2.0
PRODID:-//Plone.org//NONSGML plone.app.event//EN
X-WR-TIMEZONE:Europe/Berlin
BEGIN:VEVENT
SUMMARY:Senatssitzung
DTSTART;TZID=Europe/Berlin:20231213T141500
DTEND;TZID=Europe/Berlin:20231213T180000
DTSTAMP:20260421T230725Z
UID:ac6777b9bd25424599a330d1adc70de2@www.uni-marburg.de
CREATED:20220913T135158Z
DESCRIPTION:https://www.uni-marburg.de/de/universitaet/administration/grem
 ien/senat/termine/sitzungstermine/senatssitzung_2023-12-13\nEinladung zur 
 Senatssitzung am 13.12.2023
LAST-MODIFIED:20231207T101553Z
LOCATION:Senatssitzungssaal 003\, Biegenstr. 12
URL:https://www.uni-marburg.de/de/universitaet/administration/gremien/sena
 t/termine/sitzungstermine/senatssitzung_2023-12-13
END:VEVENT
BEGIN:VTIMEZONE
TZID:Europe/Berlin
X-LIC-LOCATION:Europe/Berlin
BEGIN:STANDARD
DTSTART:20231029T020000
TZNAME:CET
TZOFFSETFROM:+0200
TZOFFSETTO:+0100
END:STANDARD
END:VTIMEZONE
END:VCALENDAR
