BEGIN:VCALENDAR
VERSION:2.0
PRODID:-//Plone.org//NONSGML plone.app.event//EN
X-WR-TIMEZONE:Europe/Berlin
BEGIN:VEVENT
SUMMARY:Senatssitzung
DTSTART;TZID=Europe/Berlin:20241009T141500
DTEND;TZID=Europe/Berlin:20241009T180000
DTSTAMP:20260421T181610Z
UID:526c5df96fcd43e287803ce7892e91a1@www.uni-marburg.de
CREATED:20230727T082855Z
DESCRIPTION:https://www.uni-marburg.de/de/universitaet/administration/grem
 ien/senat/termine/sitzungstermine/senatssitzung_2024-10-09\nEinladung zur 
 Senatssitzung am 09.10.2024
LAST-MODIFIED:20241009T093400Z
LOCATION:Senatssitzungssaal 003\, Biegenstr. 12
URL:https://www.uni-marburg.de/de/universitaet/administration/gremien/sena
 t/termine/sitzungstermine/senatssitzung_2024-10-09
END:VEVENT
BEGIN:VTIMEZONE
TZID:Europe/Berlin
X-LIC-LOCATION:Europe/Berlin
BEGIN:DAYLIGHT
DTSTART:20240331T030000
TZNAME:CEST
TZOFFSETFROM:+0100
TZOFFSETTO:+0200
END:DAYLIGHT
END:VTIMEZONE
END:VCALENDAR
