BEGIN:VCALENDAR
VERSION:2.0
PRODID:-//Plone.org//NONSGML plone.app.event//EN
X-WR-TIMEZONE:Europe/Berlin
BEGIN:VEVENT
SUMMARY:Senatssitzung
DTSTART;TZID=Europe/Berlin:20241113T141500
DTEND;TZID=Europe/Berlin:20241113T180000
DTSTAMP:20260421T230949Z
UID:28230d225dc04266aa7a862d090cc361@www.uni-marburg.de
CREATED:20230727T083114Z
DESCRIPTION:https://www.uni-marburg.de/de/universitaet/administration/grem
 ien/senat/termine/sitzungstermine/senatssitzung_2024-11-13\nEinladung zur 
 Senatssitzung am 13.11.2024
LAST-MODIFIED:20241106T165249Z
LOCATION:Senatssitzungssaal 003\, Biegenstr. 12
URL:https://www.uni-marburg.de/de/universitaet/administration/gremien/sena
 t/termine/sitzungstermine/senatssitzung_2024-11-13
END:VEVENT
BEGIN:VTIMEZONE
TZID:Europe/Berlin
X-LIC-LOCATION:Europe/Berlin
BEGIN:STANDARD
DTSTART:20241027T020000
TZNAME:CET
TZOFFSETFROM:+0200
TZOFFSETTO:+0100
END:STANDARD
END:VTIMEZONE
END:VCALENDAR
