BEGIN:VCALENDAR
VERSION:2.0
PRODID:-//Plone.org//NONSGML plone.app.event//EN
X-WR-TIMEZONE:Europe/Berlin
BEGIN:VEVENT
SUMMARY:Senatssitzung
DTSTART;TZID=Europe/Berlin:20250326T141500
DTEND;TZID=Europe/Berlin:20250326T190000
DTSTAMP:20260421T231356Z
UID:7a00f8aabe6f485aa101dad6c6bd88c5@www.uni-marburg.de
CREATED:20240725T122103Z
DESCRIPTION:https://www.uni-marburg.de/de/universitaet/administration/grem
 ien/senat/termine/sitzungstermine/senatssitzung_2025-03-26\nEinladung zur 
 Senatssitzung am 26.03.2025
LAST-MODIFIED:20250319T110618Z
LOCATION:Biegenstr. 12\, Senatssitzungssaal 003
URL:https://www.uni-marburg.de/de/universitaet/administration/gremien/sena
 t/termine/sitzungstermine/senatssitzung_2025-03-26
END:VEVENT
BEGIN:VTIMEZONE
TZID:Europe/Berlin
X-LIC-LOCATION:Europe/Berlin
BEGIN:STANDARD
DTSTART:20241027T020000
TZNAME:CET
TZOFFSETFROM:+0200
TZOFFSETTO:+0100
END:STANDARD
END:VTIMEZONE
END:VCALENDAR
