BEGIN:VCALENDAR
VERSION:2.0
PRODID:-//Plone.org//NONSGML plone.app.event//EN
X-WR-TIMEZONE:Europe/Berlin
BEGIN:VEVENT
SUMMARY:Senatssitzung
DTSTART;TZID=Europe/Berlin:20250611T141500
DTEND;TZID=Europe/Berlin:20250611T180000
DTSTAMP:20260421T173009Z
UID:a2da6714f02d4dc5a9e929e7c4ebc362@www.uni-marburg.de
CREATED:20240725T130104Z
DESCRIPTION:https://www.uni-marburg.de/de/universitaet/administration/grem
 ien/senat/termine/sitzungstermine/senatssitzung_2025-06-11\nEinladung zur 
 Senatssitzung am 11.06.2025
LAST-MODIFIED:20241009T094530Z
LOCATION:Biegenstr. 12\, Senatssitzungssaal 003
URL:https://www.uni-marburg.de/de/universitaet/administration/gremien/sena
 t/termine/sitzungstermine/senatssitzung_2025-06-11
END:VEVENT
BEGIN:VTIMEZONE
TZID:Europe/Berlin
X-LIC-LOCATION:Europe/Berlin
BEGIN:DAYLIGHT
DTSTART:20250330T030000
TZNAME:CEST
TZOFFSETFROM:+0100
TZOFFSETTO:+0200
END:DAYLIGHT
END:VTIMEZONE
END:VCALENDAR
